BEGIN:VCALENDAR
VERSION:2.0
PRODID:-//Oxford International Collaboration Centre
CALSCALE:GREGORIAN
METHOD:PUBLISH
X-WR-CALNAME:Oxford International Collaboration Centre
X-ORIGINAL-URL:https://oicc.uk/k-event/business-management-and-leadership/
X-WR-CALDESC:Business Management and Leadership
BEGIN:VEVENT
DTSTART:
DTEND:
SUMMARY:Business Management and Leadership
DESCRIPTION:
LOCATION:
END:VEVENT
END:VCALENDAR
